BEGIN:VCALENDAR
VERSION:2.0
PRODID:icalendar-ruby
CALSCALE:GREGORIAN
METHOD:PUBLISH
BEGIN:VEVENT
DTSTAMP:20260419T190515Z
UID:10-733678@rocksolidministries.com
DTSTART:20260806T170000Z
DTEND:20260806T173000Z
CLASS:PUBLIC
CREATED:20260419T114947
DESCRIPTION:
LAST-MODIFIED:20260419T114947
LOCATION:https://www.facebook.com/people/Rock-Solid-Ministries/100043003526
 782/
SUMMARY:Noon Prayertime
URL;VALUE=URI:https://www.rocksolidministries.com/events/noon-prayertime--1
 0/2026-08-06
ATTACH;FILENAME=9.png;FMTTYPE=image/png:https://dq5pwpg1q8ru0.cloudfront.ne
 t/2025/04/17/17/37/01/c679dd29-789c-4bad-9893-3427305c2d14/9.png
END:VEVENT
END:VCALENDAR
